BEGIN:VCALENDAR
VERSION:2.0
PRODID:-//hacksw/handcal//NONSGML v1.0//EN
BEGIN:VEVENT
SUMMARY:U15F (2) vsGRAND LIEU BASKET
UID:2552523b-dc62-4716-a2d3-09992a7f0e0b
DTSTART:20260411T113000Z
DTEND:20260411T133000Z
LOCATION:Localisation COMPLEXE SPORTIF HUGUES MARTIN - RUE DU STADE 44118 LA CHEVROLIERE
CATEGORIES:Sportif
STATUS:
URL;VALUE=URI:https://www.herbadillabasket.com/evenements/2026/04/11/u15f-2-vsgrand-lieu-basket-2390406
END:VEVENT
END:VCALENDAR
