BEGIN:VCALENDAR
VERSION:2.0
PRODID:-//hacksw/handcal//NONSGML v1.0//EN
BEGIN:VEVENT
SUMMARY:ELAN DE GORGES vsU11F (2)
UID:af71beca-c46f-4b73-aa89-91b153a80a08
DTSTART:20260412T090000Z
DTEND:20260412T104500Z
LOCATION:Localisation COMPLEXE DE LA MARGERIE - Rue du Pre Neuf 44190 GORGES
CATEGORIES:Sportif
STATUS:
URL;VALUE=URI:https://www.herbadillabasket.com/evenements/2026/04/12/elan-de-gorges-vsu11f-2-2390508
END:VEVENT
END:VCALENDAR
