BEGIN:VCALENDAR
VERSION:2.0
PRODID:-//hacksw/handcal//NONSGML v1.0//EN
BEGIN:VEVENT
SUMMARY:LA PLANCHE VIEILLEVIGNE BASKET vsU18F (1)
UID:e2d259d8-348b-463f-8d5a-78eaa29751d5
DTSTART:20260412T111500Z
DTEND:20260412T133000Z
LOCATION:Localisation COMPLEXE HENRI DUPONT - Avenue de l'Atlantique 44116 VIEILLEVIGNE
CATEGORIES:Sportif
STATUS:
URL;VALUE=URI:https://www.herbadillabasket.com/evenements/2026/04/12/la-planche-vieillevigne-basket-vsu18f-1-2390471
END:VEVENT
END:VCALENDAR
